BEGIN:VCALENDAR
VERSION:2.0
PRODID:-// - ECPv6.15.16//NONSGML v1.0//EN
CALSCALE:GREGORIAN
METHOD:PUBLISH
X-ORIGINAL-URL:https://dobryporod.com
X-WR-CALDESC:Wydarzenia dla 
REFRESH-INTERVAL;VALUE=DURATION:PT1H
X-Robots-Tag:noindex
X-PUBLISHED-TTL:PT1H
BEGIN:VTIMEZONE
TZID:UTC
BEGIN:STANDARD
TZOFFSETFROM:+0000
TZOFFSETTO:+0000
TZNAME:UTC
DTSTART:20250101T000000
END:STANDARD
END:VTIMEZONE
BEGIN:VEVENT
DTSTART;VALUE=DATE:20260418
DTEND;VALUE=DATE:20260420
DTSTAMP:20260419T142558
CREATED:20260321T163805Z
LAST-MODIFIED:20260321T163805Z
UID:4529-1776470400-1776643199@dobryporod.com
SUMMARY:Kurs Gotowa na Poród (18-19 kwietnia)
DESCRIPTION:Sprawdź szczegóły: https://dobryporod.my.canva.site/gotowa-na-porod \n„Gotowa na poród” to coś więcej niż weekendowy kurs. To proces\, w którym krok po kroku przygotowujesz się do porodu – spokojnie\, z uważnością i wsparciem. \nKurs to dwutygodniowy proces przygotowania\, a nie jedynie weekendowe spotkanie na żywo. Choć intensywnie pracujemy razem podczas weekendu\, materiały kursowe będą do Ciebie trafiać na przestrzeni dwóch tygodni. Na tydzień przed zajęciami otrzymasz maila z godzinnym nagraniem wideo „Na islandzkiej porodówce – Twoje prawa\, opcje i możliwości”. To łagodne\, spokojne wprowadzenie\, które pozwoli Ci oswoić temat\, poukładać myśli i wejść w weekendową pracę z większym poczuciem bezpieczeństwa i pewności. Przed spotkaniem otrzymasz też maile wprowadzające oraz praktyczne wskazówki\, które pomogą Ci dobrze się przygotować i w pełni skorzystać z sobotnich i niedzielnych zajęć. \nWeekend to ważny etap\, ale zdecydowanie nie finał naszej wspólnej pracy. Od poniedziałku przez 7 kolejnych dni\, codziennie na Twoją skrzynkę będzie trafiał jeden mail z cyklu „Odczaruj poród. O tym się nie mówi\, a warto wiedzieć”. Ta seria od lat cieszy się ogromną popularnością wśród kursantek – wiele z nich mówi\, że to wiedza\, która uspokaja i często zmienia ich spojrzenie na poród. \nZapisy i pytania: kurs@dobryporod.com
URL:https://dobryporod.com/wydarzenia/kurs-gotowa-na-porod-18-19-kwietnia/
LOCATION:Fæðingarheimili Reykjavíkur\, Hlíðarfótur 17\, Reykjavík\, 102\, Iceland
END:VEVENT
END:VCALENDAR